BEGIN:VCALENDAR
PRODID:-//AT Content Types//AT Event//EN
VERSION:2.0
METHOD:PUBLISH
BEGIN:VEVENT
DTSTAMP:20260420T003835Z
CREATED:20260305T180657Z
UID:ATEvent-d22b2ba854184858a92f82e6cacd672b
LAST-MODIFIED:20260305T180659Z
SUMMARY:5ª conferència 'Aula d'Extensió Universitària
DTSTART:20260121T183000Z
DTEND:20260121T203000Z
LOCATION:Sala d'Actes IDA
CONTACT:IDA\, 973560100\, incubadora@bell-lloc.cat
CLASS:PUBLIC
END:VEVENT
END:VCALENDAR
