BEGIN:VCALENDAR
PRODID:-//AT Content Types//AT Event//EN
VERSION:2.0
METHOD:PUBLISH
BEGIN:VEVENT
DTSTAMP:20260420T003835Z
CREATED:20260305T170842Z
UID:ATEvent-ec31a1d4c5a6478cae844aaf04930f72
LAST-MODIFIED:20260305T170844Z
SUMMARY:6ª CONFERÈNCIA AULA EXTENSIÓ UNIVERSITÀRIA
DTSTART:20260218T183000Z
DTEND:20260218T203000Z
LOCATION:Sala d'Actes IDA
CONTACT:AEU Bell-lloc\, 973560100\, incubadora@bell-lloc.cat
CLASS:PUBLIC
END:VEVENT
END:VCALENDAR
