BEGIN:VCALENDAR
PRODID:-//AT Content Types//AT Event//EN
VERSION:2.0
METHOD:PUBLISH
BEGIN:VEVENT
DTSTAMP:20260420T051039Z
CREATED:20260305T193947Z
UID:ATEvent-99389283626141e1acd264b04c89b7b7
LAST-MODIFIED:20260305T193951Z
SUMMARY:6ª Conferència del curs 2024-25 de l’Aula d’Extensió Universitària
DTSTART:20250319T183000Z
DTEND:20250319T203000Z
LOCATION:Sala d'actes IDA
CONTACT:AEU Bell-lloc
CLASS:PUBLIC
END:VEVENT
END:VCALENDAR
