BEGIN:VCALENDAR
PRODID:-//AT Content Types//AT Event//EN
VERSION:2.0
METHOD:PUBLISH
BEGIN:VEVENT
DTSTAMP:20260420T013308Z
CREATED:20260305T193339Z
UID:ATEvent-748b51bf1ba74ee4b532056b90668d48
LAST-MODIFIED:20260305T193341Z
SUMMARY:7ª Conferència del curs 2024-25 de l'Aula d'Extensió Universitària
DTSTART:20250409T173000Z
DTEND:20250409T210000Z
LOCATION:Sala d'Actes IDA
CLASS:PUBLIC
END:VEVENT
END:VCALENDAR
