BEGIN:VCALENDAR
PRODID:-//AT Content Types//AT Event//EN
VERSION:2.0
METHOD:PUBLISH
BEGIN:VEVENT
DTSTAMP:20260420T013506Z
CREATED:20260305T192312Z
UID:ATEvent-8c83bd9c7c3545478e81590ce2698cb8
LAST-MODIFIED:20260305T192315Z
SUMMARY:8ª Conferència i Clausura del Curs 2024/25 de l'Aula d'Extensió Universitària
DTSTART:20250521T173000Z
DTEND:20250521T203000Z
LOCATION:Sala d'Actes IDA
CONTACT:AEU Bell-lloc
CLASS:PUBLIC
END:VEVENT
END:VCALENDAR
