BEGIN:VCALENDAR
PRODID:-//AT Content Types//AT Event//EN
VERSION:2.0
METHOD:PUBLISH
BEGIN:VEVENT
DTSTAMP:20260420T022350Z
CREATED:20260305T181600Z
UID:ATEvent-f93abb4660044b1e8307910584610b3c
LAST-MODIFIED:20260305T181603Z
SUMMARY:AIXOLET- FESTA DE NADAL
DTSTART:20251223T160000Z
DTEND:20251223T200000Z
LOCATION:Sala Cultural
CONTACT:L'Aixolet
CLASS:PUBLIC
END:VEVENT
END:VCALENDAR
