BEGIN:VCALENDAR
PRODID:-//AT Content Types//AT Event//EN
VERSION:1.0
BEGIN:VEVENT
DTSTART:20180811T190000Z
DTEND:20180812T010000Z
DCREATED:20180806T092732Z
UID:ATEvent-cd6f19bdacf1419aaaae29a374c94cf8
SEQUENCE:0
LAST-MODIFIED:20180806T092736Z
SUMMARY:APLEC DE LA SARDANA
LOCATION:Parc municipal
PRIORITY:3
TRANSP:0
END:VEVENT
END:VCALENDAR
