BEGIN:VCALENDAR
PRODID:-//AT Content Types//AT Event//EN
VERSION:1.0
BEGIN:VEVENT
DTSTART:20260105T153000Z
DTEND:20260105T210000Z
DCREATED:20260305T181339Z
UID:ATEvent-b49433d7ad3c4e0694c1cce8da7316ec
SEQUENCE:0
LAST-MODIFIED:20260305T181342Z
SUMMARY:ARRIBADA DE S.M ELS REIS D'ORIENT 2026
LOCATION:Pl. Lluís Companys
PRIORITY:3
TRANSP:0
END:VEVENT
END:VCALENDAR
