BEGIN:VCALENDAR
PRODID:-//AT Content Types//AT Event//EN
VERSION:1.0
BEGIN:VEVENT
DTSTART:20260220T160000Z
DTEND:20260220T165500Z
DCREATED:20260305T170428Z
UID:ATEvent-e5bdc2af6107464e8b1f2220b439cc76
SEQUENCE:0
LAST-MODIFIED:20260305T170431Z
SUMMARY:Assemblea General Ordinària Llar del Jubilat
LOCATION:Llar del jubilat
PRIORITY:3
TRANSP:0
END:VEVENT
END:VCALENDAR
