BEGIN:VCALENDAR
PRODID:-//AT Content Types//AT Event//EN
VERSION:2.0
METHOD:PUBLISH
BEGIN:VEVENT
DTSTAMP:20260420T052529Z
CREATED:20180227T074112Z
UID:ATEvent-355bfe1c830e4452be3023021d7937f1
LAST-MODIFIED:20200207T083010Z
SUMMARY:Ball de tarda amb "BANDA SONORA"
DTSTART:20200315T180000Z
DTEND:20200315T210000Z
LOCATION:Sala Cultural
CONTACT:Regidoria de festes\, 973560100\, mcampas@bell-lloc.cat
CLASS:PUBLIC
END:VEVENT
END:VCALENDAR
