BEGIN:VCALENDAR
PRODID:-//AT Content Types//AT Event//EN
VERSION:2.0
METHOD:PUBLISH
BEGIN:VEVENT
DTSTAMP:20260425T233316Z
CREATED:20170227T085026Z
UID:ATEvent-8ba09b118bc14deb9dc3f3f1b37b4262
LAST-MODIFIED:20170227T085030Z
SUMMARY:Ball de tarda amb "DUO JALAYSA"
DTSTART:20170319T180000Z
DTEND:20170319T213000Z
LOCATION:Sala Cultural
CONTACT:Ajuntament de Bell-lloc d'Urgell\, 973560100\, ajuntament@bell-lloc.cat
URL:http://www.bell-lloc.cat
CLASS:PUBLIC
END:VEVENT
END:VCALENDAR
