BEGIN:VCALENDAR
PRODID:-//AT Content Types//AT Event//EN
VERSION:1.0
BEGIN:VEVENT
DTSTART:20170219T180000Z
DTEND:20170219T220000Z
DCREATED:20170130T115027Z
UID:ATEvent-e2fab4f277c24bef9b1f1456f7f8781e
SEQUENCE:0
LAST-MODIFIED:20170130T115033Z
SUMMARY:Ball de tarda amb "DUO RUBEN'S"
LOCATION:Sala Cultural
PRIORITY:3
TRANSP:0
END:VEVENT
END:VCALENDAR
