BEGIN:VCALENDAR
PRODID:-//AT Content Types//AT Event//EN
VERSION:1.0
BEGIN:VEVENT
DTSTART:20200322T180000Z
DTEND:20200322T225500Z
DCREATED:20160111T101947Z
UID:ATEvent-b956bd3e45f24fb8b9d17f796696ec6b
SEQUENCE:0
LAST-MODIFIED:20200207T083120Z
SUMMARY:Ball de tarda amb l'orquestra "CORAL"
LOCATION:Sala Cultural
PRIORITY:3
TRANSP:0
END:VEVENT
END:VCALENDAR
