BEGIN:VCALENDAR
PRODID:-//AT Content Types//AT Event//EN
VERSION:2.0
METHOD:PUBLISH
BEGIN:VEVENT
DTSTAMP:20260420T003125Z
CREATED:20260305T180447Z
UID:ATEvent-6441048e740349d2ab1910ca97abec21
LAST-MODIFIED:20260305T180449Z
SUMMARY:Banc de sang
DTSTART:20260126T160000Z
DTEND:20260126T200000Z
LOCATION:Sala Cultural
CONTACT:Banc de sang i teixits
CLASS:PUBLIC
END:VEVENT
END:VCALENDAR
