BEGIN:VCALENDAR
PRODID:-//AT Content Types//AT Event//EN
VERSION:2.0
METHOD:PUBLISH
BEGIN:VEVENT
DTSTAMP:20260419T213454Z
CREATED:20260305T164726Z
UID:ATEvent-f25000837e3848c992094ebd17e39d0a
LAST-MODIFIED:20260305T164729Z
SUMMARY:Caminada popular i vermut Dia de la Dona
DTSTART:20260308T100000Z
DTEND:20260308T130000Z
LOCATION:Parc Municiapl
CONTACT:Regidoria de la Dona\, 973560100\, lpla@bell-lloc.cat
URL:http://www.bell-lloc.cat
CLASS:PUBLIC
END:VEVENT
END:VCALENDAR
