BEGIN:VCALENDAR
PRODID:-//AT Content Types//AT Event//EN
VERSION:2.0
METHOD:PUBLISH
BEGIN:VEVENT
DTSTAMP:20260420T003759Z
CREATED:20260305T181750Z
UID:ATEvent-df435308d99246709cd39f5aab1a7ae2
LAST-MODIFIED:20260305T181753Z
SUMMARY:CANTADA DE NADALES DE L'ESCOLA RAMON FARRERONS
DTSTART:20251217T100000Z
DTEND:20251218T110000Z
LOCATION:Varis
CONTACT:Escola Ramon Farrerons
CLASS:PUBLIC
END:VEVENT
END:VCALENDAR
