BEGIN:VCALENDAR
PRODID:-//AT Content Types//AT Event//EN
VERSION:1.0
BEGIN:VEVENT
DTSTART:20260214T160000Z
DTEND:20260215T030000Z
DCREATED:20260305T171301Z
UID:ATEvent-ae9cc5123aca4b748b3efba46462538d
SEQUENCE:0
LAST-MODIFIED:20260305T171305Z
SUMMARY:Carnestoltes 2026
LOCATION:Sala Cultural
PRIORITY:3
TRANSP:0
END:VEVENT
END:VCALENDAR
