BEGIN:VCALENDAR
PRODID:-//AT Content Types//AT Event//EN
VERSION:2.0
METHOD:PUBLISH
BEGIN:VEVENT
DTSTAMP:20260420T013149Z
CREATED:20260305T182959Z
UID:ATEvent-82f9197177e24c4b9b64417aa953daa6
LAST-MODIFIED:20260305T183002Z
SUMMARY:Competició interna de patinatge per la Marató TV3
DTSTART:20251122T083000Z
DTEND:20251122T120000Z
LOCATION:Pavelló poliesportiu
CONTACT:CLUB ESPORTIU BELL-LLOC
CLASS:PUBLIC
END:VEVENT
END:VCALENDAR
