BEGIN:VCALENDAR
PRODID:-//AT Content Types//AT Event//EN
VERSION:2.0
METHOD:PUBLISH
BEGIN:VEVENT
DTSTAMP:20260420T003619Z
CREATED:20260305T191108Z
UID:ATEvent-b8e8ff2a20694b4ab75fe3fba3ced68c
LAST-MODIFIED:20260305T191110Z
SUMMARY:CONCERT AMB VIOLA A L'ESGLESIA
DTSTART:20250801T180000Z
DTEND:20250801T200000Z
LOCATION:Església Sant Miquel
CLASS:PUBLIC
END:VEVENT
END:VCALENDAR
