BEGIN:VCALENDAR
PRODID:-//AT Content Types//AT Event//EN
VERSION:1.0
BEGIN:VEVENT
DTSTART:20250829T193000Z
DTEND:20250829T210000Z
DCREATED:20260305T190050Z
UID:ATEvent-2b81ec008d7e4f6aa043666c963a7f14
SEQUENCE:0
LAST-MODIFIED:20260305T190053Z
SUMMARY:Concert BELL-FOLK
LOCATION:Pl. Catalunya
PRIORITY:3
TRANSP:0
END:VEVENT
END:VCALENDAR
