BEGIN:VCALENDAR
PRODID:-//AT Content Types//AT Event//EN
VERSION:1.0
BEGIN:VEVENT
DTSTART:20260306T190000Z
DTEND:20260306T223000Z
DCREATED:20260305T131954Z
UID:ATEvent-c1ee954790db41779ed95e628a707e7e
SEQUENCE:0
LAST-MODIFIED:20260305T132507Z
SUMMARY:3r Concert BELL-JAZZ al Casal
LOCATION:Casal de Bell-lloc
PRIORITY:3
TRANSP:0
END:VEVENT
END:VCALENDAR
