BEGIN:VCALENDAR
PRODID:-//AT Content Types//AT Event//EN
VERSION:1.0
BEGIN:VEVENT
DTSTART:20251123T180000Z
DTEND:20251123T203500Z
DCREATED:20260305T183339Z
UID:ATEvent-04e414c3fac445b3a6e51fce7cf31fd6
SEQUENCE:0
LAST-MODIFIED:20260305T183342Z
SUMMARY:CONCERT DE SANTA CECÍLIA
LOCATION:Sala Cultural
PRIORITY:3
TRANSP:0
END:VEVENT
END:VCALENDAR
