BEGIN:VCALENDAR
PRODID:-//AT Content Types//AT Event//EN
VERSION:1.0
BEGIN:VEVENT
DTSTART:20250403T173000Z
DTEND:20250403T193500Z
DCREATED:20260305T193555Z
UID:ATEvent-0aaa10f807544d06a69abc70f3aac31c
SEQUENCE:0
LAST-MODIFIED:20260305T193558Z
SUMMARY:Conferència "Himalaia Inclusiu"
LOCATION:Sala Cultural (Bar)
PRIORITY:3
TRANSP:0
END:VEVENT
END:VCALENDAR
