BEGIN:VCALENDAR
PRODID:-//AT Content Types//AT Event//EN
VERSION:1.0
BEGIN:VEVENT
DTSTART:20180212T190000Z
DTEND:20180212T203000Z
DCREATED:20180206T104425Z
UID:ATEvent-d31b172ecedf4b6686146b8797537335
SEQUENCE:0
LAST-MODIFIED:20180206T104445Z
SUMMARY:Conferència informativa per anar a veure l’òpera al Liceu
LOCATION:Sala multifuncional
PRIORITY:3
TRANSP:0
END:VEVENT
END:VCALENDAR
