BEGIN:VCALENDAR
PRODID:-//AT Content Types//AT Event//EN
VERSION:2.0
METHOD:PUBLISH
BEGIN:VEVENT
DTSTAMP:20260420T082103Z
CREATED:20171004T070523Z
UID:ATEvent-90db9d7ada10498a84edc154baf8e408
LAST-MODIFIED:20171004T070832Z
SUMMARY:Ball de tarda amb l'orquestra "ALEA"
DTSTART:20171022T170000Z
DTEND:20171022T215500Z
DESCRIPTION:A partir de les 19 h ball de tarda amb l'orquestra "ALEA".
 \nORGANITZA: Regidoria de festes de l'Ajuntament de Bell-lloc d'Urgell
 .
LOCATION:Sala Cultural
CONTACT:Regidoria de festes\, 973560100\, ajuntament@bell-lloc.cat
CLASS:PUBLIC
END:VEVENT
END:VCALENDAR
