BEGIN:VCALENDAR
PRODID:-//AT Content Types//AT Event//EN
VERSION:1.0
BEGIN:VEVENT
DTSTART:20260220T190000Z
DTEND:20260220T223000Z
DCREATED:20260305T133108Z
UID:ATEvent-2ad4549724ab48c892fdeb4d8ac5aeb9
SEQUENCE:0
LAST-MODIFIED:20260305T133201Z
SUMMARY:1r Concert BELL-JAZZ al Casal
LOCATION:Casal de Bell-lloc
PRIORITY:3
TRANSP:0
END:VEVENT
END:VCALENDAR
