BEGIN:VCALENDAR
PRODID:-//AT Content Types//AT Event//EN
VERSION:2.0
METHOD:PUBLISH
BEGIN:VEVENT
DTSTAMP:20260419T213140Z
CREATED:20260305T133111Z
UID:ATEvent-327b8f4a3a724c06ba3b5bb33a3d209f
LAST-MODIFIED:20260305T133241Z
SUMMARY:2n Concert BELL-JAZZ al Casal
DTSTART:20260227T190000Z
DTEND:20260227T223000Z
LOCATION:Casal de Bell-lloc
CONTACT:Regidoria de Cultura\, 973560100\, lpla@bell-lloc.cat
URL:http://www.bell-lloc.cat
CLASS:PUBLIC
END:VEVENT
END:VCALENDAR
