BEGIN:VCALENDAR
PRODID:-//AT Content Types//AT Event//EN
VERSION:2.0
METHOD:PUBLISH
BEGIN:VEVENT
DTSTAMP:20260421T033005Z
CREATED:20171004T071106Z
UID:ATEvent-e2da2a7b64974790a854728f78ed3051
LAST-MODIFIED:20190227T120654Z
SUMMARY:Ball de tarda amb l'orquestra "VORALMAR"
DTSTART:20190317T180000Z
DTEND:20190317T225500Z
DESCRIPTION:A partir de les 19 h ball de tarda amb l'orquestra "VORALM
 AR".\nORGANITZA: Regidoria de festes de l'Ajuntament de Bell-lloc d'Ur
 gell.
LOCATION:Sala Cultural
CONTACT:Regidoria de festes\, 973560100\, mamoros@bell-lloc.cat
CLASS:PUBLIC
END:VEVENT
END:VCALENDAR
