BEGIN:VCALENDAR
PRODID:-//AT Content Types//AT Event//EN
VERSION:2.0
METHOD:PUBLISH
BEGIN:VEVENT
DTSTAMP:20260420T095340Z
CREATED:20190108T133710Z
UID:ATEvent-fb6aef86a540412ea759d6a5bf5a4a60
LAST-MODIFIED:20191114T132043Z
SUMMARY:Ball de tarda amb ZAFIRO
DTSTART:20191208T180000Z
DTEND:20191208T213000Z
LOCATION:Sala Cultural
CONTACT:Regidoria de festes\, 973560100\, ajuntament@bell-lloc.cat
CLASS:PUBLIC
END:VEVENT
END:VCALENDAR
