BEGIN:VCALENDAR
PRODID:-//AT Content Types//AT Event//EN
VERSION:1.0
BEGIN:VEVENT
DTSTART:20260313T190000Z
DTEND:20260313T223000Z
DCREATED:20260305T132325Z
UID:ATEvent-f7a701d4c5ec41e48069b6ce033e0dfe
SEQUENCE:0
LAST-MODIFIED:20260305T132436Z
SUMMARY:4rt Concert BELL-JAZZ al Casal
LOCATION:Casal de Bell-lloc
PRIORITY:3
TRANSP:0
END:VEVENT
END:VCALENDAR
