BEGIN:VCALENDAR
PRODID:-//AT Content Types//AT Event//EN
VERSION:1.0
BEGIN:VEVENT
DTSTART:20251205T160000Z
DTEND:20251205T180000Z
DCREATED:20260305T182531Z
UID:ATEvent-85e1ae78a50b4da2951a219759b0e385
SEQUENCE:0
LAST-MODIFIED:20260305T182534Z
SUMMARY:CURS LA FOTOGRAFIA I EL MÒBIL
LOCATION:Llar del jubilat
PRIORITY:3
TRANSP:0
END:VEVENT
END:VCALENDAR
