BEGIN:VCALENDAR
PRODID:-//AT Content Types//AT Event//EN
VERSION:2.0
METHOD:PUBLISH
BEGIN:VEVENT
DTSTAMP:20260420T012307Z
CREATED:20260305T193214Z
UID:ATEvent-04d6e2154b7244bbb488b43775bbebf7
LAST-MODIFIED:20260305T193217Z
SUMMARY:Cursa Vinyes del Mig
DTSTART:20250621T183000Z
DTEND:20250621T213000Z
LOCATION:Piscines municipals
CLASS:PUBLIC
END:VEVENT
END:VCALENDAR
