BEGIN:VCALENDAR
PRODID:-//AT Content Types//AT Event//EN
VERSION:2.0
METHOD:PUBLISH
BEGIN:VEVENT
DTSTAMP:20260420T003325Z
CREATED:20260305T193817Z
UID:ATEvent-4f38e96bc0694834bdb78878967ad38e
LAST-MODIFIED:20260305T193820Z
SUMMARY:De l'horta al plat
DTSTART:20250328T173000Z
DTEND:20250329T123000Z
LOCATION:Bar la Cultural
CLASS:PUBLIC
END:VEVENT
END:VCALENDAR
