BEGIN:VCALENDAR
PRODID:-//AT Content Types//AT Event//EN
VERSION:2.0
METHOD:PUBLISH
BEGIN:VEVENT
DTSTAMP:20260419T214807Z
CREATED:20260305T132754Z
UID:ATEvent-087d93e33ee24dd29951d481ed0fff9e
LAST-MODIFIED:20260305T132758Z
SUMMARY:Dia Mundial de la Poesia
DTSTART:20260320T170000Z
DTEND:20260320T190000Z
LOCATION:Biblioteca Joan Solà
CONTACT:Biblioteca Joan Solà\, 973560403\, biblioteca@bell-lloc.cat
CLASS:PUBLIC
END:VEVENT
END:VCALENDAR
