BEGIN:VCALENDAR
PRODID:-//AT Content Types//AT Event//EN
VERSION:1.0
BEGIN:VEVENT
DTSTART:20250911T090000Z
DTEND:20250911T110000Z
DCREATED:20260305T185911Z
UID:ATEvent-3427a0e229ae40a4b3a14e08a6821c19
SEQUENCE:0
LAST-MODIFIED:20260305T185913Z
SUMMARY:DIADA NACIONAL DE CATALUNYA
LOCATION:Pl. Catalunya
PRIORITY:3
TRANSP:0
END:VEVENT
END:VCALENDAR
