BEGIN:VCALENDAR
PRODID:-//AT Content Types//AT Event//EN
VERSION:2.0
METHOD:PUBLISH
BEGIN:VEVENT
DTSTAMP:20260420T003445Z
CREATED:20260305T175746Z
UID:ATEvent-ab042679df304fbbab31c7bf701d5ae6
LAST-MODIFIED:20260305T175749Z
SUMMARY:Dinar de Santa Àgueda
DTSTART:20260208T120000Z
DTEND:20260208T170000Z
LOCATION:Sala Cultural
CONTACT:Associació de Dones Flor de Lis\, 627441027
CLASS:PUBLIC
END:VEVENT
END:VCALENDAR
