BEGIN:VCALENDAR
PRODID:-//AT Content Types//AT Event//EN
VERSION:2.0
METHOD:PUBLISH
BEGIN:VEVENT
DTSTAMP:20260420T011349Z
CREATED:20260305T170644Z
UID:ATEvent-0a33da0fdaa74363b884fb3c82e7521f
LAST-MODIFIED:20260305T170647Z
SUMMARY:Eleccions agràries 2026
DTSTART:20260227T080500Z
DTEND:20260227T180000Z
LOCATION:Sala 5 Centre Cívic
CONTACT:Ajuntament de Bell-lloc\, 973560100\, ajuntament@bell-lloc.cat
URL:http://www.bell-lloc.cat
CLASS:PUBLIC
END:VEVENT
END:VCALENDAR
