BEGIN:VCALENDAR
PRODID:-//AT Content Types//AT Event//EN
VERSION:1.0
BEGIN:VEVENT
DTSTART:20251117T163000Z
DTEND:20251130T193000Z
DCREATED:20260305T183145Z
UID:ATEvent-7fe647a339934b10a0a5e8ce8b26e54e
SEQUENCE:0
LAST-MODIFIED:20260305T183148Z
SUMMARY:Exposició Diàlegs d'infant
LOCATION:Biblioteca Joan Solà
PRIORITY:3
TRANSP:0
END:VEVENT
END:VCALENDAR
