BEGIN:VCALENDAR
PRODID:-//AT Content Types//AT Event//EN
VERSION:2.0
METHOD:PUBLISH
BEGIN:VEVENT
DTSTAMP:20260420T003342Z
CREATED:20260305T184734Z
UID:ATEvent-c6711661770e46ce8e7c7ae5cc2953cb
LAST-MODIFIED:20260305T184736Z
SUMMARY:FESTA DE L'ESPLAI 2025
DTSTART:20251025T140000Z
DTEND:20251025T214500Z
LOCATION:Sala Cultural
CLASS:PUBLIC
END:VEVENT
END:VCALENDAR
