BEGIN:VCALENDAR
PRODID:-//AT Content Types//AT Event//EN
VERSION:2.0
METHOD:PUBLISH
BEGIN:VEVENT
DTSTAMP:20260420T003142Z
CREATED:20260305T182723Z
UID:ATEvent-52d5df8d3ec0442281012c05745c996a
LAST-MODIFIED:20260305T182725Z
SUMMARY:Festa de l'Orelleta
DTSTART:20251208T170000Z
DTEND:20251208T193000Z
LOCATION:Sala Cultural
CLASS:PUBLIC
END:VEVENT
END:VCALENDAR
