BEGIN:VCALENDAR
PRODID:-//AT Content Types//AT Event//EN
VERSION:1.0
BEGIN:VEVENT
DTSTART:20250501T070000Z
DTEND:20250504T215500Z
DCREATED:20260305T193041Z
UID:ATEvent-ecd1703dcc6f4211951d318955bb8423
SEQUENCE:0
LAST-MODIFIED:20260305T193044Z
SUMMARY:FESTA MAJOR Maig 2025
LOCATION:Varis
PRIORITY:3
TRANSP:0
END:VEVENT
END:VCALENDAR
