BEGIN:VCALENDAR
PRODID:-//AT Content Types//AT Event//EN
VERSION:2.0
METHOD:PUBLISH
BEGIN:VEVENT
DTSTAMP:20260420T003439Z
CREATED:20260305T184958Z
UID:ATEvent-dab16d68698d4edbb04128dda86af01d
LAST-MODIFIED:20260305T185001Z
SUMMARY:FESTA MAJOR Setembre 2025
DTSTART:20250926T075000Z
DTEND:20250930T215000Z
LOCATION:Varis
CONTACT:Ajuntament de Bell-lloc d'Urgell
CLASS:PUBLIC
END:VEVENT
END:VCALENDAR
