BEGIN:VCALENDAR
PRODID:-//AT Content Types//AT Event//EN
VERSION:1.0
BEGIN:VEVENT
DTSTART:20250903T183000Z
DTEND:20250903T205500Z
DCREATED:20260305T185731Z
UID:ATEvent-e776d4181dd6483d9d6f52511392792c
SEQUENCE:0
LAST-MODIFIED:20260305T185734Z
SUMMARY:FINAL D'ESTIU- LA TERRASSETA
LOCATION:Piscines municipals
PRIORITY:3
TRANSP:0
END:VEVENT
END:VCALENDAR
