BEGIN:VCALENDAR
PRODID:-//AT Content Types//AT Event//EN
VERSION:1.0
BEGIN:VEVENT
DTSTART:20250601T070000Z
DTEND:20250601T195500Z
DCREATED:20260305T192129Z
UID:ATEvent-c392db73de1545159889fcaaf8ecffa1
SEQUENCE:0
LAST-MODIFIED:20260305T192131Z
SUMMARY:FIRA VERD-LLOC
LOCATION:Parc Municipal
PRIORITY:3
TRANSP:0
END:VEVENT
END:VCALENDAR
