BEGIN:VCALENDAR
PRODID:-//AT Content Types//AT Event//EN
VERSION:2.0
METHOD:PUBLISH
BEGIN:VEVENT
DTSTAMP:20260420T003638Z
CREATED:20260305T175537Z
UID:ATEvent-0799a4defc3445fba5f5147fa85e814b
LAST-MODIFIED:20260305T175544Z
SUMMARY:Gala Club Esportiu Bell-lloc
DTSTART:20260201T090000Z
DTEND:20260201T130000Z
LOCATION:Pavelló poliesportiu
CONTACT:Club Esportiu Bell-lloc\, 973560100
CLASS:PUBLIC
END:VEVENT
END:VCALENDAR
