BEGIN:VCALENDAR
PRODID:-//AT Content Types//AT Event//EN
VERSION:1.0
BEGIN:VEVENT
DTSTART:20251107T080000Z
DTEND:20251108T200000Z
DCREATED:20260305T184003Z
UID:ATEvent-a9ac21e2924e45cb9345d4c7043a2e1e
SEQUENCE:0
LAST-MODIFIED:20260305T184005Z
SUMMARY:GRAN RECAPTE ALIMENTS
LOCATION:Varis
PRIORITY:3
TRANSP:0
END:VEVENT
END:VCALENDAR
