BEGIN:VCALENDAR
PRODID:-//AT Content Types//AT Event//EN
VERSION:1.0
BEGIN:VEVENT
DTSTART:20260228T154500Z
DTEND:20260301T200000Z
DCREATED:20260305T165032Z
UID:ATEvent-b9ffda30ccf447f484c44ce3f7378db7
SEQUENCE:0
LAST-MODIFIED:20260305T165035Z
SUMMARY:HOQUEI PATINS
LOCATION:Pavelló poliesportiu
PRIORITY:3
TRANSP:0
END:VEVENT
END:VCALENDAR
