BEGIN:VCALENDAR
PRODID:-//AT Content Types//AT Event//EN
VERSION:1.0
BEGIN:VEVENT
DTSTART:20160319T110000Z
DTEND:20160319T123000Z
DCREATED:20160205T084136Z
UID:ATEvent-0cefdeb6c818475cad080bf98b9d095c
SEQUENCE:0
LAST-MODIFIED:20160205T084141Z
SUMMARY:Inici Any Fuster i Rabès
LOCATION:Sala de conferències Incubadora d'Empreses
PRIORITY:3
TRANSP:0
END:VEVENT
END:VCALENDAR
