BEGIN:VCALENDAR
PRODID:-//AT Content Types//AT Event//EN
VERSION:1.0
BEGIN:VEVENT
DTSTART:20250812T181500Z
DTEND:20250812T213000Z
DCREATED:20260305T190529Z
UID:ATEvent-b386638446a44f45b2ab4a38c709660d
SEQUENCE:0
LAST-MODIFIED:20260305T190532Z
SUMMARY:IOGA A LES ESTRELLES
LOCATION:Turó de la Fita Alta
PRIORITY:3
TRANSP:0
END:VEVENT
END:VCALENDAR
