BEGIN:VCALENDAR
PRODID:-//AT Content Types//AT Event//EN
VERSION:2.0
METHOD:PUBLISH
BEGIN:VEVENT
DTSTAMP:20260420T003802Z
CREATED:20260305T184435Z
UID:ATEvent-a9229cab586f47ab8fac46df0df856f3
LAST-MODIFIED:20260305T184438Z
SUMMARY:Jornada: “L’ús d’eines d’intel·ligència artificial en els negocis”
DTSTART:20251030T180000Z
DTEND:20251030T210000Z
LOCATION:Sala d'Actes IDA
CLASS:PUBLIC
END:VEVENT
END:VCALENDAR
